BEGIN:VCALENDAR
VERSION:2.0
PRODID:-//www.milkriverinc.org//NONSGML kigkonsult.se iCalcreator 2.30.10//
CALSCALE:GREGORIAN
METHOD:PUBLISH
UID:48319741-1e2a-43ba-a818-1a15a0ba74c9
X-WR-CALDESC:The Christmas Store is for all kids to buy a present for their
  parents\, grandparents\, and even siblings. Each present will be wrapped 
 and ready for Christmas morning!
X-WR-RELCALID:abe955afe46a4353c6a745d942edb1c1
X-WR-TIMEZONE:America/Denver
BEGIN:VTIMEZONE
TZID:America/Denver
BEGIN:STANDARD
TZNAME:MST
DTSTART:20241103T020000
TZOFFSETFROM:-0600
TZOFFSETTO:-0700
RDATE:20251102T020000
END:STANDARD
BEGIN:DAYLIGHT
TZNAME:MDT
DTSTART:20240310T020000
TZOFFSETFROM:-0700
TZOFFSETTO:-0600
RDATE:20250309T020000
RDATE:20260308T020000
END:DAYLIGHT
END:VTIMEZONE
BEGIN:VEVENT
UID:e71e181b-b989-4aa1-8939-0ff599f142a9
DTSTAMP:20260425T152030Z
DESCRIPTION:The Christmas Store is for all kids to buy a present for their 
 parents\, grandparents\, and even siblings. Each present will be wrapped a
 nd ready for Christmas morning!
DTSTART;TZID=America/Denver:20241207T090000
DTEND;TZID=America/Denver:20241207T130000
LOCATION:219 2nd Ave S\, Glasgow\, NE 59230 US
SUMMARY:Christmas Store
END:VEVENT
END:VCALENDAR
