BEGIN:VCALENDAR
VERSION:2.0
PRODID:-//www.milkriverinc.org//NONSGML kigkonsult.se iCalcreator 2.30.10//
CALSCALE:GREGORIAN
METHOD:PUBLISH
UID:a0de39b7-1e2a-4497-875a-622815fe8263
X-WR-CALDESC:
X-WR-RELCALID:fc522b571eb81209c79bfa33af151f78
X-WR-TIMEZONE:America/Denver
BEGIN:VTIMEZONE
TZID:America/Denver
BEGIN:STANDARD
TZNAME:MST
DTSTART:20241103T020000
TZOFFSETFROM:-0600
TZOFFSETTO:-0700
RDATE:20251102T020000
END:STANDARD
BEGIN:DAYLIGHT
TZNAME:MDT
DTSTART:20240310T020000
TZOFFSETFROM:-0700
TZOFFSETTO:-0600
RDATE:20250309T020000
RDATE:20260308T020000
END:DAYLIGHT
END:VTIMEZONE
BEGIN:VEVENT
UID:9cb660f2-7d96-4cc1-8bfc-89ea33bb6675
DTSTAMP:20260425T151810Z
DESCRIPTION:
DTSTART;TZID=America/Denver:20241207T040000
DTEND;TZID=America/Denver:20241207T040001
LOCATION:
SUMMARY:SOMT- Middle of Nowhere Polar Plunge
END:VEVENT
END:VCALENDAR
